BEGIN:VCALENDAR
VERSION:2.0
PRODID:-//Squarespace Inc/Squarespace 6//v6//EN
BEGIN:VEVENT
UID:5bbbea6a53450aa93b8c759b@squarespace.com
DTSTAMP:20191007T054826Z
DTSTART:20191026T033000Z
DTEND:20191026T063000Z
SUMMARY:Zac &amp\; Seth Henderson   Hotel Bruny Beer Garden
END:VEVENT
END:VCALENDAR
